BEGIN:VCALENDAR
VERSION:2.0
PRODID:-//Raíces del Cielo | Oasis Holístico - ECPv6.15.20//NONSGML v1.0//EN
CALSCALE:GREGORIAN
METHOD:PUBLISH
X-WR-CALNAME:Raíces del Cielo | Oasis Holístico
X-ORIGINAL-URL:https://www.raicesdelcielo.com
X-WR-CALDESC:Eventos para Raíces del Cielo | Oasis Holístico
REFRESH-INTERVAL;VALUE=DURATION:PT1H
X-Robots-Tag:noindex
X-PUBLISHED-TTL:PT1H
BEGIN:VTIMEZONE
TZID:America/New_York
BEGIN:DAYLIGHT
TZOFFSETFROM:-0500
TZOFFSETTO:-0400
TZNAME:EDT
DTSTART:20250309T070000
END:DAYLIGHT
BEGIN:STANDARD
TZOFFSETFROM:-0400
TZOFFSETTO:-0500
TZNAME:EST
DTSTART:20251102T060000
END:STANDARD
BEGIN:DAYLIGHT
TZOFFSETFROM:-0500
TZOFFSETTO:-0400
TZNAME:EDT
DTSTART:20260308T070000
END:DAYLIGHT
BEGIN:STANDARD
TZOFFSETFROM:-0400
TZOFFSETTO:-0500
TZNAME:EST
DTSTART:20261101T060000
END:STANDARD
BEGIN:DAYLIGHT
TZOFFSETFROM:-0500
TZOFFSETTO:-0400
TZNAME:EDT
DTSTART:20270314T070000
END:DAYLIGHT
BEGIN:STANDARD
TZOFFSETFROM:-0400
TZOFFSETTO:-0500
TZNAME:EST
DTSTART:20271107T060000
END:STANDARD
END:VTIMEZONE
BEGIN:VEVENT
DTSTART;TZID=America/New_York:20260521T150000
DTEND;TZID=America/New_York:20260524T150000
DTSTAMP:20260423T143122
CREATED:20260327T060220Z
LAST-MODIFIED:20260331T011706Z
UID:3293-1779375600-1779634800@www.raicesdelcielo.com
SUMMARY:Habítate\, transfórmate en 4 días.
DESCRIPTION:Es una experiencia transformadora que te invita a ser parte de un gran propósito: ser más con cuerpos sanos y mentes felices\, ser más elevando nuestra experiencia de vida y poniéndonos a cargo de crear la máxima realidad que seamos capaces de experimentar día a día. \nPara ello a través del sistema Habítate y el Isha Yoga Center te compartimos herramientas que funcionan para tener un cuerpo y mente a favor de las máximas realizaciones\, un nivel óptimo para conseguir tus deseos y activar tú divina tecnología de ser humano. \nEl regalo y la magia vienen a través de Antonio Ferrara\, su música y ese corazón que permiten que la comunidad se unifique\, que nos volvamos uno.
URL:https://www.raicesdelcielo.com/evento/habitate-transformate-en-cuatro-dias/
LOCATION:Raíces del Cielo\, Ruta de los Cenotes\, Puerto Morelos\, Quintana Roo\, 77580\, Mexico
CATEGORIES:Retiros,Talleres
ATTACH;FMTTYPE=image/jpeg:https://www.raicesdelcielo.com/wp-content/uploads/2026/03/habitate-2.jpg
ORGANIZER;CN="Marisol S%C3%A1nchez":MAILTO:info@marisolenacción.com
END:VEVENT
END:VCALENDAR