BEGIN:VCALENDAR
VERSION:2.0
PRODID:-//Raíces del Cielo | Oasis Holístico - ECPv6.15.20//NONSGML v1.0//EN
CALSCALE:GREGORIAN
METHOD:PUBLISH
X-WR-CALNAME:Raíces del Cielo | Oasis Holístico
X-ORIGINAL-URL:https://www.raicesdelcielo.com
X-WR-CALDESC:Eventos para Raíces del Cielo | Oasis Holístico
REFRESH-INTERVAL;VALUE=DURATION:PT1H
X-Robots-Tag:noindex
X-PUBLISHED-TTL:PT1H
BEGIN:VTIMEZONE
TZID:Asia/Karachi
BEGIN:STANDARD
TZOFFSETFROM:+0500
TZOFFSETTO:+0500
TZNAME:PKT
DTSTART:20250101T000000
END:STANDARD
END:VTIMEZONE
BEGIN:VTIMEZONE
TZID:America/New_York
BEGIN:DAYLIGHT
TZOFFSETFROM:-0500
TZOFFSETTO:-0400
TZNAME:EDT
DTSTART:20250309T070000
END:DAYLIGHT
BEGIN:STANDARD
TZOFFSETFROM:-0400
TZOFFSETTO:-0500
TZNAME:EST
DTSTART:20251102T060000
END:STANDARD
BEGIN:DAYLIGHT
TZOFFSETFROM:-0500
TZOFFSETTO:-0400
TZNAME:EDT
DTSTART:20260308T070000
END:DAYLIGHT
BEGIN:STANDARD
TZOFFSETFROM:-0400
TZOFFSETTO:-0500
TZNAME:EST
DTSTART:20261101T060000
END:STANDARD
BEGIN:DAYLIGHT
TZOFFSETFROM:-0500
TZOFFSETTO:-0400
TZNAME:EDT
DTSTART:20270314T070000
END:DAYLIGHT
BEGIN:STANDARD
TZOFFSETFROM:-0400
TZOFFSETTO:-0500
TZNAME:EST
DTSTART:20271107T060000
END:STANDARD
END:VTIMEZONE
BEGIN:VEVENT
DTSTART;TZID=Asia/Karachi:20260205T100000
DTEND;TZID=Asia/Karachi:20260208T140000
DTSTAMP:20260423T195438
CREATED:20260306T034756Z
LAST-MODIFIED:20260306T203006Z
UID:2773-1770285600-1770559200@www.raicesdelcielo.com
SUMMARY:Habitate\, Sow your own reality
DESCRIPTION:It’s a transformative experience that invites you to be part of a greater purpose: to be more with healthy bodies and happy minds\, to be more by elevating our life experience and taking charge of creating the highest reality we are capable of experiencing each day. \nTo this end\, through the Habítate system and the Isha Yoga Center\, we share tools that work to cultivate a body and mind that support maximum achievement\, an optimal level to attain your desires and activate your divine human potential. The gift and the magic come through Antonio Ferrara\, his music\, and that heart that allows the community to unite\, for us to become one.
URL:https://www.raicesdelcielo.com/evento/habitate-sow-your-own-reality/
LOCATION:Raíces del Cielo\, Ruta de los Cenotes\, Puerto Morelos\, Quintana Roo\, 77580\, Mexico
ATTACH;FMTTYPE=image/jpeg:https://www.raicesdelcielo.com/wp-content/uploads/2026/03/habitate_febrero.jpg
ORGANIZER;CN="Marisol S%C3%A1nchez":MAILTO:info@marisolenacción.com
END:VEVENT
BEGIN:VEVENT
DTSTART;TZID=Asia/Karachi:20260213T110000
DTEND;TZID=Asia/Karachi:20260215T160000
DTSTAMP:20260423T195438
CREATED:20260306T204657Z
LAST-MODIFIED:20260306T204657Z
UID:2819-1770980400-1771171200@www.raicesdelcielo.com
SUMMARY:Infinite Love
DESCRIPTION:Infinite love is like the shining sun\, and humankind\, inhabiting this earth\, must find balance in love. We need the sun to live\, and it maintains a necessary distance from us. The same is true of love: to exist in this life\, we need love\, and without it\, suffering arises. Therefore\, we need this balance between love and suffering to live this adventure called life. We seek growth and strive to draw ever closer to that pure love\, to return home\, to the source. \na) Undefined Love \n• It is a love so pure that it defies definition. \n• It is like the sun that shines brightly\, and humankind\, inhabiting the earth\, must find balance in love. To have life\, we need the sun\, and it maintains the necessary distance from us. The same is true with love; to be in this life\, we need love\, and if we lack love\, suffering arises. Therefore\, we need this balance between love and suffering to live this adventure called life. We seek growth and to draw ever closer to that pure love\, to return home/to the source. \n• What is suffering? \nb) Giving Love and Joy \n• The impulse of creation is to hold onto love and share joy. But we must change the dynamic to “Giving love and receiving joy”\n• I allow myself to love and be loved\n• There is love\n• I am self-contained love \nc) 6 phases of a romantic relationship \n1. Birth of the relationship\n• There are illusions and expectations\n• A stage to be enjoyed to the fullest\n• An immature state; fantasies and false hopes are created\n• Each person shows their best self and sees the beautiful side of their partner\, pleasing the other and potentially falling into a certain hypocrisy. \n• It is a time when important decisions should not be made. \n• A phase of new beginnings; they discover each other and begin to get to know each other\, gradually gaining objectivity. \n  \n2. Growth \n• It is the foundation of the relationship. \n• We begin to notice each other’s true nature\n• We seek more stable plans and to consolidate the relationship. \n• A process of unification; with prudence\, they create projects together. \n• Two people gradually unifying \n3. Flower of Life \n• Enjoying what has been built\, sharing experiences\n• Moments of peace that can be mistaken for monotony\n• Appreciation\, a time for valuing\, harmony\, and tranquility\n• A stage one wishes to prolong as much as possible \n4. Decline \n• The relationship experiences friction and begins to decline\n• Disenchantment\n• More disappointments and less enjoyment\n• They may try to return to the Flower of Life\n• Accepting the decline and letting the relationship die\n• They cease to be one and become two again \n5. Death \n• Everything finds balance\n• Suffering arises from the contrast between the relationship and the beauty experienced\n• Detachment\n• Returning to yourself / liberation\n• Reconnecting with yourself\n6. Re-emergence\n• Opening yourself to love again\, without seeking it and without closing yourself off to it\n• Finding learning\, peace\, and flowing.
URL:https://www.raicesdelcielo.com/evento/infinite-love/
LOCATION:Raíces del Cielo\, Ruta de los Cenotes\, Puerto Morelos\, Quintana Roo\, 77580\, Mexico
ATTACH;FMTTYPE=image/jpeg:https://www.raicesdelcielo.com/wp-content/uploads/2026/03/amor_infinito.jpg
END:VEVENT
BEGIN:VEVENT
DTSTART;TZID=Asia/Karachi:20260226T120000
DTEND;TZID=Asia/Karachi:20260301T150000
DTSTAMP:20260423T195438
CREATED:20260306T205654Z
LAST-MODIFIED:20260306T205654Z
UID:2823-1772107200-1772377200@www.raicesdelcielo.com
SUMMARY:Women's Circle
DESCRIPTION:The more I work on myself\, the more my wounds heal… and the more the sacred strength that dwells deep within my being awakens. \nTreat yourself to four days of connection with yourself and Mother Earth. Come share with other goddesses who\, like you\, are on their own journey of awakening\, recognizing themselves\, finding themselves\, healing\, and letting go. Come share your dance\, your sacred feminine\, spirituality\, meditation\, laughter\, and tears. Come work with all these priestesses of creation and reconnect with your goddess. It’s time to awaken. \nWe live in a society that often leads us down paths that aren’t our own\, leaving us feeling incomplete\, misunderstood\, and unsatisfied because we don’t know how to listen to our inner selves\, to our cycles. But the goddess that dwells within every woman is there\, waiting to be heard\, integrated\, and embraced. And from this recognition\, the magic begins to happen. Everything begins to flow\, and we begin to realize our capabilities\, our power of creation. We begin to live more freely\, more happily\, more authentically\, and above all\, more connected to our true essence. \n 
URL:https://www.raicesdelcielo.com/evento/womens-circle/
LOCATION:Raíces del Cielo\, Ruta de los Cenotes\, Puerto Morelos\, Quintana Roo\, 77580\, Mexico
ATTACH;FMTTYPE=image/jpeg:https://www.raicesdelcielo.com/wp-content/uploads/2026/03/circulo_de_mujeres_febrero.jpg
ORGANIZER;CN="Amor Eres":MAILTO:amoreres2019@gmail.com
END:VEVENT
BEGIN:VEVENT
DTSTART;TZID=Asia/Karachi:20260312T150000
DTEND;TZID=Asia/Karachi:20260315T150000
DTSTAMP:20260423T195438
CREATED:20260306T211156Z
LAST-MODIFIED:20260307T080742Z
UID:2826-1773327600-1773586800@www.raicesdelcielo.com
SUMMARY:Suut óol\, Return to the Soul
DESCRIPTION:When was the last time you truly chose yourself?\n\n\n\nSUUT ÓOL • Return to the Soul is a retreat-workshop created for those who feel it’s time to release the noise\, heal what’s unfinished\, and come home to themselves with compassion.\n\n\n\nOver these days you’ll gently free stored emotions\, reconnect with your inner center\, and gain practical tools you can carry into everyday life. This is not an escape from reality — it’s a way to meet it with greater clarity\, strength\, and presence.
URL:https://www.raicesdelcielo.com/evento/suut-ool-return-to-the-soul/
LOCATION:Raíces del Cielo\, Ruta de los Cenotes\, Puerto Morelos\, Quintana Roo\, 77580\, Mexico
CATEGORIES:Retiros
ATTACH;FMTTYPE=image/jpeg:https://www.raicesdelcielo.com/wp-content/uploads/2026/03/volver_al_alma_imagen.jpg
ORGANIZER;CN="Coach Geo Dur%C3%A1n":MAILTO:coach.geoduran@gmail.com
END:VEVENT
BEGIN:VEVENT
DTSTART;TZID=Asia/Karachi:20260319T110000
DTEND;TZID=Asia/Karachi:20260322T160000
DTSTAMP:20260423T195438
CREATED:20260306T235504Z
LAST-MODIFIED:20260307T081039Z
UID:2831-1773918000-1774195200@www.raicesdelcielo.com
SUMMARY:Rebirth Retreat
DESCRIPTION:What are you truly hungry for? \nIt’s not just food\, it’s emotions. In this jungle refuge of silence\, come discover what voids you’re filling. This will be our space in the heart of the jungle for our REBIRTH RETREAT. \nSometimes we seek to heal the mind in therapy\, nourish the body in the kitchen\, or find peace on the mat… but what happens when we bring it all together? \nGestalt therapy helps us close cycles and “become aware.” Nutrition gives us the vital energy to sustain us. And yoga teaches us to inhabit the present through movement. My proposal isn’t just that you eat better or exercise; it’s that you learn to listen to yourself\, nourish yourself\, and move from a place of love and full awareness. \nYour well-being deserves a holistic approach; we are not separate parts\, we are a whole!
URL:https://www.raicesdelcielo.com/evento/rebirth-retreat/
LOCATION:Raíces del Cielo\, Ruta de los Cenotes\, Puerto Morelos\, Quintana Roo\, 77580\, Mexico
CATEGORIES:Retiros
ATTACH;FMTTYPE=image/jpeg:https://www.raicesdelcielo.com/wp-content/uploads/2026/03/retiro-renacer_imagen.jpg
END:VEVENT
BEGIN:VEVENT
DTSTART;TZID=America/New_York:20260521T150000
DTEND;TZID=America/New_York:20260524T150000
DTSTAMP:20260423T195438
CREATED:20260327T060220Z
LAST-MODIFIED:20260331T011706Z
UID:3293-1779375600-1779634800@www.raicesdelcielo.com
SUMMARY:Habítate\, transfórmate en 4 días.
DESCRIPTION:Es una experiencia transformadora que te invita a ser parte de un gran propósito: ser más con cuerpos sanos y mentes felices\, ser más elevando nuestra experiencia de vida y poniéndonos a cargo de crear la máxima realidad que seamos capaces de experimentar día a día. \nPara ello a través del sistema Habítate y el Isha Yoga Center te compartimos herramientas que funcionan para tener un cuerpo y mente a favor de las máximas realizaciones\, un nivel óptimo para conseguir tus deseos y activar tú divina tecnología de ser humano. \nEl regalo y la magia vienen a través de Antonio Ferrara\, su música y ese corazón que permiten que la comunidad se unifique\, que nos volvamos uno.
URL:https://www.raicesdelcielo.com/evento/habitate-transformate-en-cuatro-dias/
LOCATION:Raíces del Cielo\, Ruta de los Cenotes\, Puerto Morelos\, Quintana Roo\, 77580\, Mexico
CATEGORIES:Retiros,Talleres
ATTACH;FMTTYPE=image/jpeg:https://www.raicesdelcielo.com/wp-content/uploads/2026/03/habitate-2.jpg
ORGANIZER;CN="Marisol S%C3%A1nchez":MAILTO:info@marisolenacción.com
END:VEVENT
BEGIN:VEVENT
DTSTART;TZID=America/New_York:20260604T160000
DTEND;TZID=America/New_York:20260607T170000
DTSTAMP:20260423T195438
CREATED:20260331T213711Z
LAST-MODIFIED:20260331T214435Z
UID:3465-1780588800-1780851600@www.raicesdelcielo.com
SUMMARY:Retiro de Meditación y Silencio
DESCRIPTION:La profunda experiencia de Daniel Ortiz en sus propios retiros personales se convierte hoy en la inspiración viva de este encuentro transformador de 4 días\, consagrado al Ser\, al silencio y a la reconexión interior. \nDurante este retiro\, recibirás enseñanzas elevadas y prácticas que fortalecerán tu proceso meditativo con fundamentos científicos y una sabiduría aplicada\, transmitida de manera sutil\, respetuosa y profundamente transformadora. No es solo aprendizaje\, es una vivencia que te permitirá adentrarte con mayor claridad y conciencia en el camino de la espiritualidad. \nEl silencio será el gran maestro y protagonista de esta experiencia. En él encontrarás respuestas\, sanación y un nivel de autoconocimiento tan profundo que quizá nunca antes hayas explorado. En el silencio no solo te escuchas\, te descubres. \nEste retiro es un santuario de paz interior\, una oportunidad única para reconectar con tu Espíritu en un entorno natural incomparable. La energía del lugar\, sumada a la guía consciente de Daniel Ortiz\, convierte esta experiencia en uno de los encuentros más apreciados y recordados por quienes han decidido regalarse este espacio de transformación. \n  \nConoce a tu Guía\nDaniel Ortiz Maestro de la técnica terapéutica TERAPIA MEDITATIVA\, quien de manera autodidacta a través de 7 retiros en solitario en diversos escenarios de la naturaleza\, comprendio y reconcetó con su propósito\ndivino. \nEn este proceso recibió el mensaje de llevar la meditación a un proceso de sanación que permita reconectar con el espíritu\, creando así la Terapia Meditativa que ya ha llegado a más de 1\,000 personas en distintas partes del mundo. \nAdemás comparte este camino a través de retiros grupales y una formación de nuevos terapeutas meditativos\, siempre con el objetivo de reconocer el poder divino y compartir la luz con la humanidad. \nTe invita a que seas parte de esta experiencia de autotransformación\ndivina \n  \nIncluye: \n\nHospedaje en habitación compartida o individual\nAlimentación vegetariana\nprograma de alimentación detox\nCeremonia sagrada de Temazcal\nTerapia Soundhealing\nClases de yoga\n\nNo incluye: \n\nTransportación
URL:https://www.raicesdelcielo.com/evento/retiro-de-meditacion-y-silencio/
LOCATION:Raíces del Cielo\, Ruta de los Cenotes\, Puerto Morelos\, Quintana Roo\, 77580\, Mexico
CATEGORIES:Retiros
ATTACH;FMTTYPE=image/jpeg:https://www.raicesdelcielo.com/wp-content/uploads/2026/03/daniel-ortiz-retiro.jpg
END:VEVENT
BEGIN:VEVENT
DTSTART;TZID=America/New_York:20261009T110000
DTEND;TZID=America/New_York:20261015T130000
DTSTAMP:20260423T195438
CREATED:20260327T212341Z
LAST-MODIFIED:20260331T211115Z
UID:3315-1791543600-1792069200@www.raicesdelcielo.com
SUMMARY:Retorno al Poder Divino
DESCRIPTION:No llegué al camino espiritual por curiosidad. Llegué por amor. \nAbogada de profesión y madre de dos hijos\, mi despertar comenzó cuando acompañé a mi hijo menor en un proceso profundamente desafiante de salud. En medio del dolor\, cuando las respuestas externas ya no eran suficientes\, inicié una búsqueda interior que transformó mi vida para siempre. Lo que comenzó como una esperanza se convirtió en revelación. \nAprendí que la verdadera sanación no siempre significa cambiar el cuerpo… sino regresar a la paz del alma. \nDesde hace más de ocho años acompaño procesos de expansión y reconexión espiritual. Me Certifiqué como instructora y facilitadora de herramientas energéticas\, terapias holísticas\, respiración consciente y más\, como estilo de vida he transformado mi mente a través del conocimiento\, pero sobre todo de la experiencia que el mismo camino espiritual otorga. \nHa acompañado a personas en México y en distintos países a liberar creencias limitantes\, recuperar claridad mental y recordar su esencia divina. Tuve la oportunidad de ser reconocida por el Salón de la Fama Latinoamérica y la Facultad Internacional de Derechos Humanos con un Doctorado Honoris Causa por mi aportación al bienestar integral en Latinoamérica\, un honor que recibí con humildad\, sabiendo que toda transformación auténtica ocurre cuando el amor guía el proceso y que en realidad ningún reconocimiento\npuede definirme. \nMi misión es clara: \nAcompañar a las almas a recordar su luz\, su poder y su verdad.\nY si estás leyendo esto…\ntal vez tu alma ya está lista. \nPROPÓSITO DEL RETIRO \nCrear un espacio seguro y profundamente sostenido para que: \n\nRecuperes tu poder creador\nLibres tu mente de patrones repetitivos\nReconectes con tu intuición\nIntegres cuerpo\, mente y espíritu\nExperimentes la unión con la Fuente de manera tangible\n\nEste retiro es una experiencia inmersiva de siete días donde la transformación\nno se queda en la emoción… se encarna. \n  \nEXPERIENCIA 2026 \nDurante siete días vivirás: \n\n Yoga/Caminata consciente\n Breathwork profundo\nHigiene mental y observador interno\nConexión en cenote\nExperiencia en playa Cancún\nCírculo de fuego\nSesiones masivas LNT\nEnseñanzas basadas en Un Curso de Milagros\nRitual de integración\nNoche del Retorno\nSalida sorpresa\n\nTodo en un entorno natural diseñado para sostener procesos reales de\nexpansión \nBENEFICIOS \n\nReconectar con tu poder creador\nRecuperar claridad mental y paz interior\nIntegrar cuerpo\, mente y espíritu\nProfundizar tu conexión con lo divino\nLiberar cargas emocionales y energéticas\nFortalecer tu intuición\n\n  \nIncluye: \n\nHospedaje compartido\nAlimentación completa\nTransporte local a actividades\nTodas las sesiones y experiencias\nTransporte Aeropuerto – Raíces del Cielo – AeropuertO\n\nNo incluye: \n\nVuelos
URL:https://www.raicesdelcielo.com/evento/retorno-al-poder-divino/
LOCATION:Raíces del Cielo\, Ruta de los Cenotes\, Puerto Morelos\, Quintana Roo\, 77580\, Mexico
ATTACH;FMTTYPE=image/jpeg:https://www.raicesdelcielo.com/wp-content/uploads/2026/03/martha-retiro.jpg
END:VEVENT
END:VCALENDAR