BEGIN:VCALENDAR
VERSION:2.0
PRODID:-//Raíces del Cielo | Oasis Holístico - ECPv6.15.20//NONSGML v1.0//EN
CALSCALE:GREGORIAN
METHOD:PUBLISH
X-WR-CALNAME:Raíces del Cielo | Oasis Holístico
X-ORIGINAL-URL:https://www.raicesdelcielo.com
X-WR-CALDESC:Eventos para Raíces del Cielo | Oasis Holístico
REFRESH-INTERVAL;VALUE=DURATION:PT1H
X-Robots-Tag:noindex
X-PUBLISHED-TTL:PT1H
BEGIN:VTIMEZONE
TZID:America/New_York
BEGIN:DAYLIGHT
TZOFFSETFROM:-0500
TZOFFSETTO:-0400
TZNAME:EDT
DTSTART:20250309T070000
END:DAYLIGHT
BEGIN:STANDARD
TZOFFSETFROM:-0400
TZOFFSETTO:-0500
TZNAME:EST
DTSTART:20251102T060000
END:STANDARD
BEGIN:DAYLIGHT
TZOFFSETFROM:-0500
TZOFFSETTO:-0400
TZNAME:EDT
DTSTART:20260308T070000
END:DAYLIGHT
BEGIN:STANDARD
TZOFFSETFROM:-0400
TZOFFSETTO:-0500
TZNAME:EST
DTSTART:20261101T060000
END:STANDARD
BEGIN:DAYLIGHT
TZOFFSETFROM:-0500
TZOFFSETTO:-0400
TZNAME:EDT
DTSTART:20270314T070000
END:DAYLIGHT
BEGIN:STANDARD
TZOFFSETFROM:-0400
TZOFFSETTO:-0500
TZNAME:EST
DTSTART:20271107T060000
END:STANDARD
END:VTIMEZONE
BEGIN:VEVENT
DTSTART;TZID=America/New_York:20260604T160000
DTEND;TZID=America/New_York:20260607T170000
DTSTAMP:20260423T195120
CREATED:20260331T213711Z
LAST-MODIFIED:20260331T214435Z
UID:3465-1780588800-1780851600@www.raicesdelcielo.com
SUMMARY:Retiro de Meditación y Silencio
DESCRIPTION:La profunda experiencia de Daniel Ortiz en sus propios retiros personales se convierte hoy en la inspiración viva de este encuentro transformador de 4 días\, consagrado al Ser\, al silencio y a la reconexión interior. \nDurante este retiro\, recibirás enseñanzas elevadas y prácticas que fortalecerán tu proceso meditativo con fundamentos científicos y una sabiduría aplicada\, transmitida de manera sutil\, respetuosa y profundamente transformadora. No es solo aprendizaje\, es una vivencia que te permitirá adentrarte con mayor claridad y conciencia en el camino de la espiritualidad. \nEl silencio será el gran maestro y protagonista de esta experiencia. En él encontrarás respuestas\, sanación y un nivel de autoconocimiento tan profundo que quizá nunca antes hayas explorado. En el silencio no solo te escuchas\, te descubres. \nEste retiro es un santuario de paz interior\, una oportunidad única para reconectar con tu Espíritu en un entorno natural incomparable. La energía del lugar\, sumada a la guía consciente de Daniel Ortiz\, convierte esta experiencia en uno de los encuentros más apreciados y recordados por quienes han decidido regalarse este espacio de transformación. \n  \nConoce a tu Guía\nDaniel Ortiz Maestro de la técnica terapéutica TERAPIA MEDITATIVA\, quien de manera autodidacta a través de 7 retiros en solitario en diversos escenarios de la naturaleza\, comprendio y reconcetó con su propósito\ndivino. \nEn este proceso recibió el mensaje de llevar la meditación a un proceso de sanación que permita reconectar con el espíritu\, creando así la Terapia Meditativa que ya ha llegado a más de 1\,000 personas en distintas partes del mundo. \nAdemás comparte este camino a través de retiros grupales y una formación de nuevos terapeutas meditativos\, siempre con el objetivo de reconocer el poder divino y compartir la luz con la humanidad. \nTe invita a que seas parte de esta experiencia de autotransformación\ndivina \n  \nIncluye: \n\nHospedaje en habitación compartida o individual\nAlimentación vegetariana\nprograma de alimentación detox\nCeremonia sagrada de Temazcal\nTerapia Soundhealing\nClases de yoga\n\nNo incluye: \n\nTransportación
URL:https://www.raicesdelcielo.com/evento/retiro-de-meditacion-y-silencio/
LOCATION:Raíces del Cielo\, Ruta de los Cenotes\, Puerto Morelos\, Quintana Roo\, 77580\, Mexico
CATEGORIES:Retiros
ATTACH;FMTTYPE=image/jpeg:https://www.raicesdelcielo.com/wp-content/uploads/2026/03/daniel-ortiz-retiro.jpg
END:VEVENT
END:VCALENDAR