BEGIN:VCALENDAR
VERSION:2.0
PRODID:-//Raíces del Cielo | Oasis Holístico - ECPv6.15.20//NONSGML v1.0//EN
CALSCALE:GREGORIAN
METHOD:PUBLISH
X-ORIGINAL-URL:https://www.raicesdelcielo.com
X-WR-CALDESC:Eventos para Raíces del Cielo | Oasis Holístico
REFRESH-INTERVAL;VALUE=DURATION:PT1H
X-Robots-Tag:noindex
X-PUBLISHED-TTL:PT1H
BEGIN:VTIMEZONE
TZID:Asia/Karachi
BEGIN:STANDARD
TZOFFSETFROM:+0500
TZOFFSETTO:+0500
TZNAME:PKT
DTSTART:20250101T000000
END:STANDARD
END:VTIMEZONE
BEGIN:VEVENT
DTSTART;TZID=Asia/Karachi:20260226T120000
DTEND;TZID=Asia/Karachi:20260301T150000
DTSTAMP:20260423T161808
CREATED:20260306T205654Z
LAST-MODIFIED:20260306T205654Z
UID:2823-1772107200-1772377200@www.raicesdelcielo.com
SUMMARY:Women's Circle
DESCRIPTION:The more I work on myself\, the more my wounds heal… and the more the sacred strength that dwells deep within my being awakens. \nTreat yourself to four days of connection with yourself and Mother Earth. Come share with other goddesses who\, like you\, are on their own journey of awakening\, recognizing themselves\, finding themselves\, healing\, and letting go. Come share your dance\, your sacred feminine\, spirituality\, meditation\, laughter\, and tears. Come work with all these priestesses of creation and reconnect with your goddess. It’s time to awaken. \nWe live in a society that often leads us down paths that aren’t our own\, leaving us feeling incomplete\, misunderstood\, and unsatisfied because we don’t know how to listen to our inner selves\, to our cycles. But the goddess that dwells within every woman is there\, waiting to be heard\, integrated\, and embraced. And from this recognition\, the magic begins to happen. Everything begins to flow\, and we begin to realize our capabilities\, our power of creation. We begin to live more freely\, more happily\, more authentically\, and above all\, more connected to our true essence. \n 
URL:https://www.raicesdelcielo.com/evento/womens-circle/
LOCATION:Raíces del Cielo\, Ruta de los Cenotes\, Puerto Morelos\, Quintana Roo\, 77580\, Mexico
ATTACH;FMTTYPE=image/jpeg:https://www.raicesdelcielo.com/wp-content/uploads/2026/03/circulo_de_mujeres_febrero.jpg
ORGANIZER;CN="Amor Eres":MAILTO:amoreres2019@gmail.com
END:VEVENT
END:VCALENDAR